BEGIN:VCALENDAR
VERSION:2.0
PRODID:-//LabelPack - ECPv6.15.20//NONSGML v1.0//EN
CALSCALE:GREGORIAN
METHOD:PUBLISH
X-ORIGINAL-URL:https://www.labelpack.de
X-WR-CALDESC:Veranstaltungen für LabelPack
REFRESH-INTERVAL;VALUE=DURATION:PT1H
X-Robots-Tag:noindex
X-PUBLISHED-TTL:PT1H
BEGIN:VTIMEZONE
TZID:Europe/Berlin
BEGIN:DAYLIGHT
TZOFFSETFROM:+0100
TZOFFSETTO:+0200
TZNAME:CEST
DTSTART:20250330T010000
END:DAYLIGHT
BEGIN:STANDARD
TZOFFSETFROM:+0200
TZOFFSETTO:+0100
TZNAME:CET
DTSTART:20251026T010000
END:STANDARD
BEGIN:DAYLIGHT
TZOFFSETFROM:+0100
TZOFFSETTO:+0200
TZNAME:CEST
DTSTART:20260329T010000
END:DAYLIGHT
BEGIN:STANDARD
TZOFFSETFROM:+0200
TZOFFSETTO:+0100
TZNAME:CET
DTSTART:20261025T010000
END:STANDARD
BEGIN:DAYLIGHT
TZOFFSETFROM:+0100
TZOFFSETTO:+0200
TZNAME:CEST
DTSTART:20270328T010000
END:DAYLIGHT
BEGIN:STANDARD
TZOFFSETFROM:+0200
TZOFFSETTO:+0100
TZNAME:CET
DTSTART:20271031T010000
END:STANDARD
END:VTIMEZONE
BEGIN:VEVENT
DTSTART;VALUE=DATE:20260302
DTEND;VALUE=DATE:20260304
DTSTAMP:20260421T123822
CREATED:20251222T134058Z
LAST-MODIFIED:20251222T134058Z
UID:117642-1772409600-1772582399@www.labelpack.de
SUMMARY:überbetrieblicher Kurs 1 (üK1) - Digitaldruck
DESCRIPTION:
URL:https://www.labelpack.de/event/ueberbetrieblicher-kurs-1-uek1-digitaldruck/
ATTACH;FMTTYPE=image/jpeg:https://www.labelpack.de/wp-content/uploads/2024/11/Logo_PackPrint-Swiss.jpg
END:VEVENT
BEGIN:VEVENT
DTSTART;VALUE=DATE:20260303
DTEND;VALUE=DATE:20260305
DTSTAMP:20260421T123822
CREATED:20251222T135045Z
LAST-MODIFIED:20251222T135116Z
UID:117648-1772496000-1772668799@www.labelpack.de
SUMMARY:Innovations in Adhesives and their Applications
DESCRIPTION:
URL:https://www.labelpack.de/event/innovations-in-adhesives-and-their-applications/
LOCATION:München/D
ATTACH;FMTTYPE=image/jpeg:https://www.labelpack.de/wp-content/uploads/2024/11/Logo-inadhesives.jpg
END:VEVENT
BEGIN:VEVENT
DTSTART;VALUE=DATE:20260303
DTEND;VALUE=DATE:20260306
DTSTAMP:20260421T123822
CREATED:20251223T153443Z
LAST-MODIFIED:20251223T153458Z
UID:117658-1772496000-1772755199@www.labelpack.de
SUMMARY:Tiefdruck zum Anfassen (in Englisch)
DESCRIPTION:
URL:https://www.labelpack.de/event/tiefdruck-zum-anfassen-in-englisch/
LOCATION:Stuttgart/D
ATTACH;FMTTYPE=image/jpeg:https://www.labelpack.de/wp-content/uploads/2025/12/Logo_GRA.jpg
END:VEVENT
BEGIN:VEVENT
DTSTART;VALUE=DATE:20260303
DTEND;VALUE=DATE:20260305
DTSTAMP:20260421T123822
CREATED:20260102T112738Z
LAST-MODIFIED:20260102T112738Z
UID:117748-1772496000-1772668799@www.labelpack.de
SUMMARY:Der BRC Global Standard Verpackungsmaterialien - Einsteigerkurs
DESCRIPTION:
URL:https://www.labelpack.de/event/der-brc-global-standard-verpackungsmaterialien-einsteigerkurs/
LOCATION:Osnabrück/D
ATTACH;FMTTYPE=image/jpeg:https://www.labelpack.de/wp-content/uploads/2022/12/Logo_Innoform.jpg
END:VEVENT
BEGIN:VEVENT
DTSTART;VALUE=DATE:20260305
DTEND;VALUE=DATE:20260307
DTSTAMP:20260421T123822
CREATED:20251223T153802Z
LAST-MODIFIED:20251223T153802Z
UID:117663-1772668800-1772841599@www.labelpack.de
SUMMARY:Colour Day (in Englisch)
DESCRIPTION:
URL:https://www.labelpack.de/event/colour-day-in-englisch/
LOCATION:Stuttgart/D
ATTACH;FMTTYPE=image/jpeg:https://www.labelpack.de/wp-content/uploads/2025/12/Logo_GRA.jpg
END:VEVENT
BEGIN:VEVENT
DTSTART;TZID=Europe/Berlin:20260305T100000
DTEND;TZID=Europe/Berlin:20260305T113000
DTSTAMP:20260421T123822
CREATED:20260102T113303Z
LAST-MODIFIED:20260102T113303Z
UID:117750-1772704800-1772710200@www.labelpack.de
SUMMARY:Wie bewertet man die Recyclingfähigkeit von Verpackungen? - Überblick & Update
DESCRIPTION:
URL:https://www.labelpack.de/event/wie-bewertet-man-die-recyclingfaehigkeit-von-verpackungen-ueberblick-update/
ATTACH;FMTTYPE=image/jpeg:https://www.labelpack.de/wp-content/uploads/2022/12/Logo_Innoform-Webseminar.jpg
END:VEVENT
BEGIN:VEVENT
DTSTART;VALUE=DATE:20260310
DTEND;VALUE=DATE:20260312
DTSTAMP:20260421T123822
CREATED:20260102T114812Z
LAST-MODIFIED:20260102T115238Z
UID:117754-1773100800-1773273599@www.labelpack.de
SUMMARY:Barrierefolien in der Anwendung - Welche Folie für welchen Zweck?
DESCRIPTION:
URL:https://www.labelpack.de/event/barrierefolien-in-der-anwendung-welche-folie-fuer-welchen-zweck-7/
LOCATION:Sigmaringen/D
ATTACH;FMTTYPE=image/jpeg:https://www.labelpack.de/wp-content/uploads/2022/12/Logo_Innoform-Hybrid-Event-1.jpg
END:VEVENT
BEGIN:VEVENT
DTSTART;TZID=Europe/Berlin:20260310T100000
DTEND;TZID=Europe/Berlin:20260310T120000
DTSTAMP:20260421T123822
CREATED:20260102T113516Z
LAST-MODIFIED:20260102T113516Z
UID:117752-1773136800-1773144000@www.labelpack.de
SUMMARY:Sealing layers and sealing properties PE & PP - Basics for flexible packaging films\, part G (In English)
DESCRIPTION:
URL:https://www.labelpack.de/event/sealing-layers-and-sealing-properties-pe-pp-basics-for-flexible-packaging-films-part-g-in-english/
ATTACH;FMTTYPE=image/jpeg:https://www.labelpack.de/wp-content/uploads/2022/12/Logo_Innoform-Webseminar.jpg
END:VEVENT
BEGIN:VEVENT
DTSTART;VALUE=DATE:20260311
DTEND;VALUE=DATE:20260314
DTSTAMP:20260421T123822
CREATED:20251222T131313Z
LAST-MODIFIED:20251222T131313Z
UID:117636-1773187200-1773446399@www.labelpack.de
SUMMARY:AWA Global Release Liner Summit 2026
DESCRIPTION:
URL:https://www.labelpack.de/event/awa-global-release-liner-summit-2026/
LOCATION:Amsterdam/NL
ATTACH;FMTTYPE=image/jpeg:https://www.labelpack.de/wp-content/uploads/2022/12/Logo_AWA.jpg
END:VEVENT
BEGIN:VEVENT
DTSTART;TZID=Europe/Berlin:20260311T100000
DTEND;TZID=Europe/Berlin:20260311T113000
DTSTAMP:20260421T123822
CREATED:20260102T115641Z
LAST-MODIFIED:20260102T115641Z
UID:117757-1773223200-1773228600@www.labelpack.de
SUMMARY:PFAS – die sogenannten »Forever Chemicals« - Was muss ich beachten?
DESCRIPTION:
URL:https://www.labelpack.de/event/pfas-die-sogenannten-forever-chemicals-was-muss-ich-beachten/
ATTACH;FMTTYPE=image/jpeg:https://www.labelpack.de/wp-content/uploads/2022/12/Logo_Innoform-Webseminar.jpg
END:VEVENT
BEGIN:VEVENT
DTSTART;TZID=Europe/Berlin:20260312T100000
DTEND;TZID=Europe/Berlin:20260312T113000
DTSTAMP:20260421T123822
CREATED:20260102T120251Z
LAST-MODIFIED:20260102T120251Z
UID:117759-1773309600-1773315000@www.labelpack.de
SUMMARY:Papier & Folien auf FFS-Verpackungs-Anlagen fehlerfrei verarbeiten - Über die Formschulter zum Produkt
DESCRIPTION:
URL:https://www.labelpack.de/event/papier-folien-auf-ffs-verpackungs-anlagen-fehlerfrei-verarbeiten-ueber-die-formschulter-zum-produkt-2/
ATTACH;FMTTYPE=image/jpeg:https://www.labelpack.de/wp-content/uploads/2022/12/Logo_Innoform-Webseminar.jpg
END:VEVENT
BEGIN:VEVENT
DTSTART;TZID=Europe/Berlin:20260317T100000
DTEND;TZID=Europe/Berlin:20260317T120000
DTSTAMP:20260421T123822
CREATED:20260102T120442Z
LAST-MODIFIED:20260102T120442Z
UID:117761-1773741600-1773748800@www.labelpack.de
SUMMARY:Zertifizierung zur Rückverfolgbarkeit von Post Consumer Rezyklaten - ein Überblick
DESCRIPTION:
URL:https://www.labelpack.de/event/zertifizierung-zur-rueckverfolgbarkeit-von-post-consumer-rezyklaten-ein-ueberblick-2/
ATTACH;FMTTYPE=image/jpeg:https://www.labelpack.de/wp-content/uploads/2022/12/Logo_Innoform-Webseminar.jpg
END:VEVENT
BEGIN:VEVENT
DTSTART;VALUE=DATE:20260318
DTEND;VALUE=DATE:20260320
DTSTAMP:20260421T123822
CREATED:20260202T113228Z
LAST-MODIFIED:20260202T113228Z
UID:118265-1773792000-1773964799@www.labelpack.de
SUMMARY:Inkjet Development Conference
DESCRIPTION:
URL:https://www.labelpack.de/event/inkjet-development-conference-2/
LOCATION:Hamburg/D
ATTACH;FMTTYPE=image/jpeg:https://www.labelpack.de/wp-content/uploads/2022/01/Logo_IMI-Europe.jpg
END:VEVENT
BEGIN:VEVENT
DTSTART;VALUE=DATE:20260319
DTEND;VALUE=DATE:20260321
DTSTAMP:20260421T123822
CREATED:20251222T134503Z
LAST-MODIFIED:20251222T134503Z
UID:117646-1773878400-1774051199@www.labelpack.de
SUMMARY:überbetrieblicher Kurs 2 (üK2) - Farbenmischen
DESCRIPTION:
URL:https://www.labelpack.de/event/ueberbetrieblicher-kurs-2-uek2-farbenmischen/
LOCATION:Zürich/CH
ATTACH;FMTTYPE=image/jpeg:https://www.labelpack.de/wp-content/uploads/2024/11/Logo_PackPrint-Swiss.jpg
END:VEVENT
BEGIN:VEVENT
DTSTART;VALUE=DATE:20260324
DTEND;VALUE=DATE:20260326
DTSTAMP:20260421T123822
CREATED:20251222T121709Z
LAST-MODIFIED:20251222T121709Z
UID:117602-1774310400-1774483199@www.labelpack.de
SUMMARY:DFTA Fachsymposium I
DESCRIPTION:
URL:https://www.labelpack.de/event/dfta-fachsymposium-i/
LOCATION:Tübingen/D
ATTACH;FMTTYPE=image/jpeg:https://www.labelpack.de/wp-content/uploads/2024/01/Logo_DFTA-2.jpg
END:VEVENT
BEGIN:VEVENT
DTSTART;VALUE=DATE:20260325
DTEND;VALUE=DATE:20260327
DTSTAMP:20260421T123822
CREATED:20260102T120624Z
LAST-MODIFIED:20260102T120624Z
UID:117763-1774396800-1774569599@www.labelpack.de
SUMMARY:EU-Recht für Lebensmittelverpackungen aus Kunststoff - Grundkurs
DESCRIPTION:
URL:https://www.labelpack.de/event/eu-recht-fuer-lebensmittelverpackungen-aus-kunststoff-grundkurs/
LOCATION:Osnabrück/D
ATTACH;FMTTYPE=image/jpeg:https://www.labelpack.de/wp-content/uploads/2022/12/Logo_Innoform.jpg
END:VEVENT
BEGIN:VEVENT
DTSTART;VALUE=DATE:20260331
DTEND;VALUE=DATE:20260403
DTSTAMP:20260421T123822
CREATED:20251223T173931Z
LAST-MODIFIED:20260102T120735Z
UID:117686-1774915200-1775174399@www.labelpack.de
SUMMARY:Gulf Print & Pack
DESCRIPTION:
URL:https://www.labelpack.de/event/gulf-print-pack/
LOCATION:Dubai/UAE
ATTACH;FMTTYPE=image/jpeg:https://www.labelpack.de/wp-content/uploads/2025/12/Logo_Gulf-Print-Pack.jpg
END:VEVENT
BEGIN:VEVENT
DTSTART;TZID=Europe/Berlin:20260331T100000
DTEND;TZID=Europe/Berlin:20260331T113000
DTSTAMP:20260421T123822
CREATED:20260102T121749Z
LAST-MODIFIED:20260102T121749Z
UID:117769-1774951200-1774956600@www.labelpack.de
SUMMARY:Rezyklate in Lebensmittelverpackungen - EU-Verordnung (EU) 2022/1616
DESCRIPTION:
URL:https://www.labelpack.de/event/rezyklate-in-lebensmittelverpackungen-eu-verordnung-eu-2022-1616-2/
ATTACH;FMTTYPE=image/jpeg:https://www.labelpack.de/wp-content/uploads/2022/12/Logo_Innoform-Webseminar.jpg
END:VEVENT
END:VCALENDAR